BEGIN:VCALENDAR
VERSION:2.0
PRODID:-//Tukios.com/
BEGIN:VEVENT
UID:12eab7be-4969-4a87-a9d1-d6522f0ee28c@www.smith-heald.com
DTSTAMP:20260422T181531Z
DTSTART:20260502T150000Z
DTEND:20260502T160000Z
SUMMARY:Funeral Service
DESCRIPTION:
URL:https://www.smith-heald.com/obituaries/lorraine-strube
LOCATION: 63 Elm St  Milford NH 03055
GEO:42.8358602;-71.6565353
END:VEVENT
END:VCALENDAR