BEGIN:VCALENDAR
VERSION:2.0
PRODID:-//Tukios.com/
BEGIN:VEVENT
UID:10bea153-8c63-4508-b0f6-f6084c67cbb7@www.smith-heald.com
DTSTAMP:20260422T182021Z
DTSTART:20260501T210000Z
DTEND:20260501T230000Z
SUMMARY:Visitation
DESCRIPTION:
URL:https://www.smith-heald.com/obituaries/lorraine-strube
LOCATION:Smith & Heald Funeral Home 63 Elm St  Milford NH 03055
GEO:42.8358602;-71.6565353
END:VEVENT
END:VCALENDAR